BEGIN:VCALENDAR
VERSION:2.0
PRODID:icalendar-ruby
CALSCALE:GREGORIAN
BEGIN:VEVENT
DTSTAMP:20260421T051453Z
UID:42170b6c-5212-46ed-85d0-2cb74123e5ab
DTSTART;VALUE=DATE:20210321
DESCRIPTION:Property ID# 502985\, Locatoin: Onsite\, Time: 12:30PM
SUMMARY:Auction for 
END:VEVENT
END:VCALENDAR
