BEGIN:VCALENDAR
VERSION:2.0
PRODID:icalendar-ruby
CALSCALE:GREGORIAN
BEGIN:VEVENT
DTSTAMP:20260420T120730Z
UID:0ee1fca1-f329-47cc-9037-02dc10fdaf71
DTSTART;VALUE=DATE:20260422
DESCRIPTION:Property ID# 606113\, Locatoin: In Rooms at Ray White Manukau O
 ffice\, Time: 12:00PM
SUMMARY:Auction for 1 Sutton Avenue
END:VEVENT
END:VCALENDAR
